View In:
ArcMap
ArcGIS Explorer
ArcGIS JavaScript
Google Earth
ArcGIS.com Map
View Footprint In:
Google Earth
Service Description:
Map Name: Louisiana
Legend
All Layers and Tables
Layers:
Tables:
Description:
Copyright Text:
Spatial Reference: 26915
Single Fused Map Cache: true
Tile Info:
- Height: 512
- Width: 512
- DPI: 96
- Levels of Detail: (# Levels: 12)
-
Level ID: 0
[Start Tile,
End Tile]
Resolution: 2443.24674967694
Scale: 9234299.955339
-
Level ID: 1
[Start Tile,
End Tile]
Resolution: 1221.62337483834
Scale: 4617149.977669
-
Level ID: 2
[Start Tile,
End Tile]
Resolution: 610.811687419302
Scale: 2308574.988835
-
Level ID: 3
[Start Tile,
End Tile]
Resolution: 305.405843709519
Scale: 1154287.494417
-
Level ID: 4
[Start Tile,
End Tile]
Resolution: 152.702921854892
Scale: 577143.747209
-
Level ID: 5
[Start Tile,
End Tile]
Resolution: 76.3514609273135
Scale: 288571.873604
-
Level ID: 6
[Start Tile,
End Tile]
Resolution: 38.1757304636568
Scale: 144285.936802
-
Level ID: 7
[Start Tile,
End Tile]
Resolution: 19.0878652318284
Scale: 72142.968401
-
Level ID: 8
[Start Tile,
End Tile]
Resolution: 9.54393261604648
Scale: 36071.484201
-
Level ID: 9
[Start Tile,
End Tile]
Resolution: 4.77196630789095
Scale: 18035.7421
-
Level ID: 10
[Start Tile,
End Tile]
Resolution: 2.38598315394547
Scale: 9017.87105
-
Level ID: 11
[Start Tile,
End Tile]
Resolution: 1.19299157697274
Scale: 4508.935525
- Format: PNG32
- Compression Quality: 0
-
Origin:
- Spatial Reference: 26915
Initial Extent:
XMin: 350288.798949531
YMin: 3165645.65179114
XMax: 1086890.27215248
YMax: 3706455.0667433
Spatial Reference: 26915
Full Extent:
XMin: 372449.301174575
YMin: 3168459.06241115
XMax: 939694.691536491
YMax: 3684931.94467578
Spatial Reference: 26915
Units: esriMeters
Supported Image Format Types: PNG24,PNG,JPG,DIB,TIFF,EMF,PS,PDF,GIF,SVG,SVGZ,AI,BMP
Document Info:
- Title: TIGER2006SE_LA_master
- Author: jkent
- Comments:
- Subject:
- Category:
- Keywords:
- Credits:
Supported Interfaces:
REST
SOAP
Supported Operations:
Export Map
Identify
Find
Generate KML