View In:
ArcMap
ArcGIS Explorer
ArcGIS JavaScript
Google Earth
ArcGIS.com Map
View Footprint In:
Google Earth
Service Description:
Map Name: Layers
Legend
All Layers and Tables
Layers:
Tables:
Description: LADOTD levee centerline data.
Copyright Text: Doug Taylor, P. E. , LADOTD Public Works Section
Spatial Reference: 26915
Single Fused Map Cache: true
Tile Info:
- Height: 512
- Width: 512
- DPI: 96
- Levels of Detail: (# Levels: 12)
-
Level ID: 0
[Start Tile,
End Tile]
Resolution: 2443.24674967694
Scale: 9234299.955339
-
Level ID: 1
[Start Tile,
End Tile]
Resolution: 1221.62337483834
Scale: 4617149.977669
-
Level ID: 2
[Start Tile,
End Tile]
Resolution: 610.811687419302
Scale: 2308574.988835
-
Level ID: 3
[Start Tile,
End Tile]
Resolution: 305.405843709519
Scale: 1154287.494417
-
Level ID: 4
[Start Tile,
End Tile]
Resolution: 152.702921854892
Scale: 577143.747209
-
Level ID: 5
[Start Tile,
End Tile]
Resolution: 76.3514609273135
Scale: 288571.873604
-
Level ID: 6
[Start Tile,
End Tile]
Resolution: 38.1757304636568
Scale: 144285.936802
-
Level ID: 7
[Start Tile,
End Tile]
Resolution: 19.0878652318284
Scale: 72142.968401
-
Level ID: 8
[Start Tile,
End Tile]
Resolution: 9.54393261604648
Scale: 36071.484201
-
Level ID: 9
[Start Tile,
End Tile]
Resolution: 4.77196630789095
Scale: 18035.7421
-
Level ID: 10
[Start Tile,
End Tile]
Resolution: 2.38598315394547
Scale: 9017.87105
-
Level ID: 11
[Start Tile,
End Tile]
Resolution: 1.19299157697274
Scale: 4508.935525
- Format: PNG32
- Compression Quality: 0
-
Origin:
- Spatial Reference: 26915
Initial Extent:
XMin: 246845.320653662
YMin: 3346223.64601439
XMax: 861030.001111751
YMax: 3677721.83832568
Spatial Reference: 26915
Full Extent:
XMin: 265062.66287064
YMin: 3356056.21951515
XMax: 842812.658894774
YMax: 3667889.26482492
Spatial Reference: 26915
Units: esriMeters
Supported Image Format Types: PNG24,PNG,JPG,DIB,TIFF,EMF,PS,PDF,GIF,SVG,SVGZ,AI,BMP
Document Info:
- Title: DOTD Levee Centerlines
- Author: J. E. Mitchell, Ph. D., LADOTD IT GiS Manager
- Comments: These data represent the best available levee centerline data, collected from field observations, for the non-coastal levees of north Louisiana. Elevation values are NOT included in these data. They are primarily used for stationing and linear referencing.
- Subject: These data are the levee centerlines colected and used by the Louisiana Depertment of Transoportation and Development, Public Works Section.
- Category:
- Keywords: Louisiana, levee, centerline, linear referencing, stationing
- Credits: Doug Taylor, P. E., LADOTD Public Works Section
Supported Interfaces:
REST
SOAP
Supported Operations:
Export Map
Identify
Find